BEGIN:VCALENDAR
VERSION:2.0
PRODID:-//Sixth Avenue Baptist Church - ECPv6.8.3//NONSGML v1.0//EN
CALSCALE:GREGORIAN
METHOD:PUBLISH
X-WR-CALNAME:Sixth Avenue Baptist Church
X-ORIGINAL-URL:https://sixthavebaptist.com/new_staging
X-WR-CALDESC:Events for Sixth Avenue Baptist Church
REFRESH-INTERVAL;VALUE=DURATION:PT1H
X-Robots-Tag:noindex
X-PUBLISHED-TTL:PT1H
BEGIN:VTIMEZONE
TZID:America/New_York
BEGIN:DAYLIGHT
TZOFFSETFROM:-0500
TZOFFSETTO:-0400
TZNAME:EDT
DTSTART:20180311T070000
END:DAYLIGHT
BEGIN:STANDARD
TZOFFSETFROM:-0400
TZOFFSETTO:-0500
TZNAME:EST
DTSTART:20181104T060000
END:STANDARD
END:VTIMEZONE
BEGIN:VEVENT
DTSTART;VALUE=DATE:20180817
DTEND;VALUE=DATE:20180819
DTSTAMP:20260426T024434
CREATED:20180813T152546Z
LAST-MODIFIED:20180813T152546Z
UID:7109-1534464000-1534636799@sixthavebaptist.com
SUMMARY:Marriage Retreat
DESCRIPTION:Friday night\n6-6:30 pm registration\n6:30-7:15 pm  dinner\n7:15 -8:30 pm game night/facilitators \nSaturday\nRegistration 9:00-9:15 am\nSession 9:15 am – 12:00 pm\nContinental breakfast and box lunch
URL:https://sixthavebaptist.com/new_staging/event/marriage-retreat/
END:VEVENT
END:VCALENDAR