BEGIN:VCALENDAR
VERSION:2.0
PRODID:-//Sixth Avenue Baptist Church - ECPv6.8.3//NONSGML v1.0//EN
CALSCALE:GREGORIAN
METHOD:PUBLISH
X-WR-CALNAME:Sixth Avenue Baptist Church
X-ORIGINAL-URL:https://sixthavebaptist.com/new_staging
X-WR-CALDESC:Events for Sixth Avenue Baptist Church
REFRESH-INTERVAL;VALUE=DURATION:PT1H
X-Robots-Tag:noindex
X-PUBLISHED-TTL:PT1H
BEGIN:VTIMEZONE
TZID:America/New_York
BEGIN:DAYLIGHT
TZOFFSETFROM:-0500
TZOFFSETTO:-0400
TZNAME:EDT
DTSTART:20180311T070000
END:DAYLIGHT
BEGIN:STANDARD
TZOFFSETFROM:-0400
TZOFFSETTO:-0500
TZNAME:EST
DTSTART:20181104T060000
END:STANDARD
END:VTIMEZONE
BEGIN:VEVENT
DTSTART;TZID=America/New_York:20180915T083000
DTEND;TZID=America/New_York:20180915T120000
DTSTAMP:20260426T012755
CREATED:20180914T093526Z
LAST-MODIFIED:20180914T093526Z
UID:7261-1537000200-1537012800@sixthavebaptist.com
SUMMARY:ACT Bootcamp
DESCRIPTION:Upstairs Classroom
URL:https://sixthavebaptist.com/new_staging/event/act-bootcamp/
END:VEVENT
BEGIN:VEVENT
DTSTART;TZID=America/New_York:20180915T083000
DTEND;TZID=America/New_York:20180915T140000
DTSTAMP:20260426T012755
CREATED:20180914T093122Z
LAST-MODIFIED:20180914T093122Z
UID:7259-1537000200-1537020000@sixthavebaptist.com
SUMMARY:Fall Health Event
DESCRIPTION:
URL:https://sixthavebaptist.com/new_staging/event/fall-health-event/
END:VEVENT
BEGIN:VEVENT
DTSTART;TZID=America/New_York:20180915T100000
DTEND;TZID=America/New_York:20180915T150000
DTSTAMP:20260426T012755
CREATED:20180914T093823Z
LAST-MODIFIED:20180914T093823Z
UID:7263-1537005600-1537023600@sixthavebaptist.com
SUMMARY:Children's Theatre Intensive
DESCRIPTION:Basement and Chapel
URL:https://sixthavebaptist.com/new_staging/event/childrens-theatre-intensive/
END:VEVENT
BEGIN:VEVENT
DTSTART;TZID=America/New_York:20180915T103000
DTEND;TZID=America/New_York:20180915T133000
DTSTAMP:20260426T012755
CREATED:20180914T094033Z
LAST-MODIFIED:20180914T094033Z
UID:7265-1537007400-1537018200@sixthavebaptist.com
SUMMARY:Girls Scouts Meeting
DESCRIPTION:Upstairs Middle
URL:https://sixthavebaptist.com/new_staging/event/girls-scouts-meeting/
END:VEVENT
BEGIN:VEVENT
DTSTART;TZID=America/New_York:20180915T120000
DTEND;TZID=America/New_York:20180915T150000
DTSTAMP:20260426T012755
CREATED:20180914T094245Z
LAST-MODIFIED:20180914T094245Z
UID:7267-1537012800-1537023600@sixthavebaptist.com
SUMMARY:Continental's
DESCRIPTION:Music Room
URL:https://sixthavebaptist.com/new_staging/event/continentals/
END:VEVENT
END:VCALENDAR