BEGIN:VCALENDAR
VERSION:2.0
PRODID:-//Sixth Avenue Baptist Church - ECPv6.8.3//NONSGML v1.0//EN
CALSCALE:GREGORIAN
METHOD:PUBLISH
X-WR-CALNAME:Sixth Avenue Baptist Church
X-ORIGINAL-URL:https://sixthavebaptist.com/new_staging
X-WR-CALDESC:Events for Sixth Avenue Baptist Church
REFRESH-INTERVAL;VALUE=DURATION:PT1H
X-Robots-Tag:noindex
X-PUBLISHED-TTL:PT1H
BEGIN:VTIMEZONE
TZID:America/New_York
BEGIN:DAYLIGHT
TZOFFSETFROM:-0500
TZOFFSETTO:-0400
TZNAME:EDT
DTSTART:20180311T070000
END:DAYLIGHT
BEGIN:STANDARD
TZOFFSETFROM:-0400
TZOFFSETTO:-0500
TZNAME:EST
DTSTART:20181104T060000
END:STANDARD
END:VTIMEZONE
BEGIN:VEVENT
DTSTART;TZID=America/New_York:20180929T093000
DTEND;TZID=America/New_York:20180929T110000
DTSTAMP:20260426T013217
CREATED:20180928T091825Z
LAST-MODIFIED:20180928T091825Z
UID:7315-1538213400-1538218800@sixthavebaptist.com
SUMMARY:Men's Quarterly Fellowship Breakfast
DESCRIPTION:Sponsored by Joshua Men’s Ministry
URL:https://sixthavebaptist.com/new_staging/event/mens-quarterly-fellowship-breakfast/
END:VEVENT
END:VCALENDAR