BEGIN:VCALENDAR
VERSION:2.0
PRODID:-//Sixth Avenue Baptist Church - ECPv6.8.3//NONSGML v1.0//EN
CALSCALE:GREGORIAN
METHOD:PUBLISH
X-WR-CALNAME:Sixth Avenue Baptist Church
X-ORIGINAL-URL:https://sixthavebaptist.com/new_staging
X-WR-CALDESC:Events for Sixth Avenue Baptist Church
REFRESH-INTERVAL;VALUE=DURATION:PT1H
X-Robots-Tag:noindex
X-PUBLISHED-TTL:PT1H
BEGIN:VTIMEZONE
TZID:America/New_York
BEGIN:DAYLIGHT
TZOFFSETFROM:-0500
TZOFFSETTO:-0400
TZNAME:EDT
DTSTART:20180311T070000
END:DAYLIGHT
BEGIN:STANDARD
TZOFFSETFROM:-0400
TZOFFSETTO:-0500
TZNAME:EST
DTSTART:20181104T060000
END:STANDARD
END:VTIMEZONE
BEGIN:VEVENT
DTSTART;TZID=America/New_York:20181207T193000
DTEND;TZID=America/New_York:20181207T233000
DTSTAMP:20260425T214906
CREATED:20181121T105957Z
LAST-MODIFIED:20181121T105957Z
UID:7480-1544211000-1544225400@sixthavebaptist.com
SUMMARY:Pizza & Pajamas
DESCRIPTION:  \nREGISTER BELOW: \n\n                \n                        Name*\n                            \n                            \n                                                    \n                                                    First\n                                                \n                            \n                            \n                                                    \n                                                    Last\n                                                \n                            \n                        Email*\n                            \n                        Upload completed Wedding Request Form\n										\n											Drop files here or \n											Select files\n										\n									Max. file size: 64 MB.
URL:https://sixthavebaptist.com/new_staging/event/pizza-pajamas-2018/
END:VEVENT
END:VCALENDAR