BEGIN:VCALENDAR
VERSION:2.0
PRODID:-//Sixth Avenue Baptist Church - ECPv6.8.3//NONSGML v1.0//EN
CALSCALE:GREGORIAN
METHOD:PUBLISH
X-ORIGINAL-URL:https://sixthavebaptist.com/new_staging
X-WR-CALDESC:Events for Sixth Avenue Baptist Church
REFRESH-INTERVAL;VALUE=DURATION:PT1H
X-Robots-Tag:noindex
X-PUBLISHED-TTL:PT1H
BEGIN:VTIMEZONE
TZID:America/New_York
BEGIN:DAYLIGHT
TZOFFSETFROM:-0500
TZOFFSETTO:-0400
TZNAME:EDT
DTSTART:20180311T070000
END:DAYLIGHT
BEGIN:STANDARD
TZOFFSETFROM:-0400
TZOFFSETTO:-0500
TZNAME:EST
DTSTART:20181104T060000
END:STANDARD
END:VTIMEZONE
BEGIN:VEVENT
DTSTART;TZID=America/New_York:20181216T160000
DTEND;TZID=America/New_York:20181216T180000
DTSTAMP:20260425T215221
CREATED:20181129T151305Z
LAST-MODIFIED:20181129T151305Z
UID:7516-1544976000-1544983200@sixthavebaptist.com
SUMMARY:A Christmas Carol: The Real Meaning of Christmas
DESCRIPTION:
URL:https://sixthavebaptist.com/new_staging/event/a-christmas-carol-the-real-meaning-of-christmas/
END:VEVENT
END:VCALENDAR