BEGIN:VCALENDAR
VERSION:2.0
PRODID:-//Sixth Avenue Baptist Church - ECPv6.8.3//NONSGML v1.0//EN
CALSCALE:GREGORIAN
METHOD:PUBLISH
X-ORIGINAL-URL:https://sixthavebaptist.com/new_staging
X-WR-CALDESC:Events for Sixth Avenue Baptist Church
REFRESH-INTERVAL;VALUE=DURATION:PT1H
X-Robots-Tag:noindex
X-PUBLISHED-TTL:PT1H
BEGIN:VTIMEZONE
TZID:America/New_York
BEGIN:DAYLIGHT
TZOFFSETFROM:-0500
TZOFFSETTO:-0400
TZNAME:EDT
DTSTART:20190310T070000
END:DAYLIGHT
BEGIN:STANDARD
TZOFFSETFROM:-0400
TZOFFSETTO:-0500
TZNAME:EST
DTSTART:20191103T060000
END:STANDARD
END:VTIMEZONE
BEGIN:VEVENT
DTSTART;TZID=America/New_York:20190225T103000
DTEND;TZID=America/New_York:20190225T113000
DTSTAMP:20260425T134637
CREATED:20190221T131611Z
LAST-MODIFIED:20190221T131611Z
UID:8778-1551090600-1551094200@sixthavebaptist.com
SUMMARY:RETIREES\, SENIORS\,  KEENAGERS\, 50+
DESCRIPTION:The Keenagers’ Ministry Meeting will be held on Monday\, February 25th at 10:30 am. \nInformation: Medical Presentation on Dementia and Alzheimer’s\, renowned Gerontologist Antonio Williams of UAB\, a statewide Dementia and Alzheimer’s Education Trainer. \nFellowshipping:  Keenagers’ Fun Day – Time 11:30 am \nActivities – Exercise and Black\, History Game. \nBlack History Month Meal – Planned!!! \n 
URL:https://sixthavebaptist.com/new_staging/event/retirees-seniors-keenagers-50/
END:VEVENT
END:VCALENDAR