BEGIN:VCALENDAR
VERSION:2.0
PRODID:-//Sixth Avenue Baptist Church - ECPv6.8.3//NONSGML v1.0//EN
CALSCALE:GREGORIAN
METHOD:PUBLISH
X-ORIGINAL-URL:https://sixthavebaptist.com/new_staging
X-WR-CALDESC:Events for Sixth Avenue Baptist Church
REFRESH-INTERVAL;VALUE=DURATION:PT1H
X-Robots-Tag:noindex
X-PUBLISHED-TTL:PT1H
BEGIN:VTIMEZONE
TZID:America/New_York
BEGIN:DAYLIGHT
TZOFFSETFROM:-0500
TZOFFSETTO:-0400
TZNAME:EDT
DTSTART:20190310T070000
END:DAYLIGHT
BEGIN:STANDARD
TZOFFSETFROM:-0400
TZOFFSETTO:-0500
TZNAME:EST
DTSTART:20191103T060000
END:STANDARD
END:VTIMEZONE
BEGIN:VEVENT
DTSTART;VALUE=DATE:20190418
DTEND;VALUE=DATE:20190419
DTSTAMP:20260425T123342
CREATED:20190405T115820Z
LAST-MODIFIED:20190405T115820Z
UID:8962-1555545600-1555631999@sixthavebaptist.com
SUMMARY:Maundy Thursday Remembrance in Chapel
DESCRIPTION:What is Maundy Thursday / Holy Thursday?\nMaundy Thursday\, also known as “Holy Thursday\,” is the Thursday of Passion Week\, one day before Good Friday (the Friday before Easter). Maundy Thursday is the name given to the day on which Jesus celebrated the Passover with His disciples\, known as the Last Supper. Two important events are the focus of Maundy Thursday. First\, Jesus celebrated the Last Supper with His disciples and thereby instituted the Lord’s Supper\, also called Communion (Luke 22:19-20). Some Christian churches observe a special Communion service on Maundy Thursday in memory of Jesus’ Last Supper with His disciples. Second\, Jesus washed the disciples’ feet as an act of humility and service\, thereby setting an example that we should love and serve one another in humility (John 13:3-17). Some Christian churches observe a foot-washing ceremony on Maundy Thursday to commemorate Jesus’ washing the feet of the disciples. \nThe word Maundy is derived from the Latin word for “command.” The “Maundy” in “Maundy Thursday” refers to the command Jesus gave to the disciples at the Last Supper\, that they should love and serve one another. Should we observe Maundy Thursday? The Bible neither commands nor forbids it. It is a good thing to remember the Last Supper and Jesus’ sacrifice on our behalf. It is a good thing to remember the Lord’s example of humility. However\, at the same time\, we should avoid ritualistic observances of holidays unless they are truly focused on God and our relationship with Him. \nObserving a special Lord’s Supper service on Maundy Thursday/Holy Thursday in remembrance of the Last Supper is a good thing to do. Doing a foot-washing in remembrance of how Christ humbled Himself and washed the feet of the disciples is a powerful reminder of how we are to live the Christian life (Philippians 2:1-11). Let’s just make sure we are observing Maundy Thursday in a way that truly honors what happened at the Last Supper.
URL:https://sixthavebaptist.com/new_staging/event/maundy-thursday-remembrance-in-chapel/
END:VEVENT
END:VCALENDAR