BEGIN:VCALENDAR
VERSION:2.0
PRODID:-//Sixth Avenue Baptist Church - ECPv6.8.3//NONSGML v1.0//EN
CALSCALE:GREGORIAN
METHOD:PUBLISH
X-ORIGINAL-URL:https://sixthavebaptist.com/new_staging
X-WR-CALDESC:Events for Sixth Avenue Baptist Church
REFRESH-INTERVAL;VALUE=DURATION:PT1H
X-Robots-Tag:noindex
X-PUBLISHED-TTL:PT1H
BEGIN:VTIMEZONE
TZID:America/New_York
BEGIN:DAYLIGHT
TZOFFSETFROM:-0500
TZOFFSETTO:-0400
TZNAME:EDT
DTSTART:20190310T070000
END:DAYLIGHT
BEGIN:STANDARD
TZOFFSETFROM:-0400
TZOFFSETTO:-0500
TZNAME:EST
DTSTART:20191103T060000
END:STANDARD
END:VTIMEZONE
BEGIN:VEVENT
DTSTART;VALUE=DATE:20190816
DTEND;VALUE=DATE:20190818
DTSTAMP:20260422T231747
CREATED:20190724T215012Z
LAST-MODIFIED:20190724T215012Z
UID:9254-1565913600-1566086399@sixthavebaptist.com
SUMMARY:Marriage Seminar: August 16-17
DESCRIPTION:Marriage Seminar: August 16-17\nFor married and engaged couples\n“Becoming Friends with your spouse” \nFacilitators:Rev. Cedric and Ingrid Brown \nFriday\, August 16th 5:30pm Registration 6:00pm – 8:00pm\nJeans and bling\, Tacos and Bachata \nSaturday\, August 17th 9:00am–1:00pm\, 8:30 Registration & Continental breakfast and lunch. \nPlease share with another couple (bring a friend)RSVP no later than August 11th to SABCMEM@GMAIL.COM
URL:https://sixthavebaptist.com/new_staging/event/marriage-seminar-august-16-17/
END:VEVENT
BEGIN:VEVENT
DTSTART;TZID=America/New_York:20190816T183000
DTEND;TZID=America/New_York:20190816T193000
DTSTAMP:20260422T231747
CREATED:20181130T115616Z
LAST-MODIFIED:20181130T115616Z
UID:8044-1565980200-1565983800@sixthavebaptist.com
SUMMARY:Couples Urban Ballroom Dance lessons
DESCRIPTION:Fellowship Hall
URL:https://sixthavebaptist.com/new_staging/event/couples-urban-ballroom-dance-lessons-2019-08-16/
END:VEVENT
END:VCALENDAR