BEGIN:VCALENDAR
VERSION:2.0
PRODID:-//Sixth Avenue Baptist Church - ECPv6.8.3//NONSGML v1.0//EN
CALSCALE:GREGORIAN
METHOD:PUBLISH
X-ORIGINAL-URL:https://sixthavebaptist.com/new_staging
X-WR-CALDESC:Events for Sixth Avenue Baptist Church
REFRESH-INTERVAL;VALUE=DURATION:PT1H
X-Robots-Tag:noindex
X-PUBLISHED-TTL:PT1H
BEGIN:VTIMEZONE
TZID:America/New_York
BEGIN:DAYLIGHT
TZOFFSETFROM:-0500
TZOFFSETTO:-0400
TZNAME:EDT
DTSTART:20190310T070000
END:DAYLIGHT
BEGIN:STANDARD
TZOFFSETFROM:-0400
TZOFFSETTO:-0500
TZNAME:EST
DTSTART:20191103T060000
END:STANDARD
END:VTIMEZONE
BEGIN:VEVENT
DTSTART;TZID=America/New_York:20190830T183000
DTEND;TZID=America/New_York:20190830T193000
DTSTAMP:20260422T215453
CREATED:20181130T115616Z
LAST-MODIFIED:20181130T115616Z
UID:8046-1567189800-1567193400@sixthavebaptist.com
SUMMARY:Couples Urban Ballroom Dance lessons
DESCRIPTION:Fellowship Hall
URL:https://sixthavebaptist.com/new_staging/event/couples-urban-ballroom-dance-lessons-2019-08-30/
END:VEVENT
END:VCALENDAR