BEGIN:VCALENDAR
VERSION:2.0
PRODID:-//Sixth Avenue Baptist Church - ECPv6.8.3//NONSGML v1.0//EN
CALSCALE:GREGORIAN
METHOD:PUBLISH
X-WR-CALNAME:Sixth Avenue Baptist Church
X-ORIGINAL-URL:https://sixthavebaptist.com/new_staging
X-WR-CALDESC:Events for Sixth Avenue Baptist Church
REFRESH-INTERVAL;VALUE=DURATION:PT1H
X-Robots-Tag:noindex
X-PUBLISHED-TTL:PT1H
BEGIN:VTIMEZONE
TZID:America/New_York
BEGIN:DAYLIGHT
TZOFFSETFROM:-0500
TZOFFSETTO:-0400
TZNAME:EDT
DTSTART:20190310T070000
END:DAYLIGHT
BEGIN:STANDARD
TZOFFSETFROM:-0400
TZOFFSETTO:-0500
TZNAME:EST
DTSTART:20191103T060000
END:STANDARD
END:VTIMEZONE
BEGIN:VEVENT
DTSTART;TZID=America/New_York:20191020T160000
DTEND;TZID=America/New_York:20191020T180000
DTSTAMP:20260422T151743
CREATED:20191018T120136Z
LAST-MODIFIED:20191018T120136Z
UID:9564-1571587200-1571594400@sixthavebaptist.com
SUMMARY:Progressive Choir Concert
DESCRIPTION:Sanctuary @ 4:00pm
URL:https://sixthavebaptist.com/new_staging/event/progressive-choir-concert-2/
END:VEVENT
END:VCALENDAR