BEGIN:VCALENDAR
VERSION:2.0
PRODID:-//Sixth Avenue Baptist Church - ECPv6.8.3//NONSGML v1.0//EN
CALSCALE:GREGORIAN
METHOD:PUBLISH
X-WR-CALNAME:Sixth Avenue Baptist Church
X-ORIGINAL-URL:https://sixthavebaptist.com/new_staging
X-WR-CALDESC:Events for Sixth Avenue Baptist Church
REFRESH-INTERVAL;VALUE=DURATION:PT1H
X-Robots-Tag:noindex
X-PUBLISHED-TTL:PT1H
BEGIN:VTIMEZONE
TZID:America/New_York
BEGIN:DAYLIGHT
TZOFFSETFROM:-0500
TZOFFSETTO:-0400
TZNAME:EDT
DTSTART:20190310T070000
END:DAYLIGHT
BEGIN:STANDARD
TZOFFSETFROM:-0400
TZOFFSETTO:-0500
TZNAME:EST
DTSTART:20191103T060000
END:STANDARD
END:VTIMEZONE
BEGIN:VEVENT
DTSTART;TZID=America/New_York:20191123T083000
DTEND;TZID=America/New_York:20191123T110000
DTSTAMP:20260422T134412
CREATED:20190927T092610Z
LAST-MODIFIED:20190927T092610Z
UID:9478-1574497800-1574506800@sixthavebaptist.com
SUMMARY:Sixth Avenue Baptist Church’s Prayer Breakfast
DESCRIPTION:Sponsored by the Northside Matrons\, will be held on Saturday\, November 23\, 2019\, 8:30 a.m.\, at The Harbert Center. \nThe Prayer Breakfast tickets are $30 each. Tickets are now available and can be purchased from any member of the Northside Matrons. \nFor more information\, contact Carolyn Johnson @ 252-4007. \n 
URL:https://sixthavebaptist.com/new_staging/event/sixth-avenue-baptist-churchs-prayer-breakfast/
END:VEVENT
END:VCALENDAR