BEGIN:VCALENDAR
VERSION:2.0
PRODID:-//Sixth Avenue Baptist Church - ECPv6.8.3//NONSGML v1.0//EN
CALSCALE:GREGORIAN
METHOD:PUBLISH
X-WR-CALNAME:Sixth Avenue Baptist Church
X-ORIGINAL-URL:https://sixthavebaptist.com/new_staging
X-WR-CALDESC:Events for Sixth Avenue Baptist Church
REFRESH-INTERVAL;VALUE=DURATION:PT1H
X-Robots-Tag:noindex
X-PUBLISHED-TTL:PT1H
BEGIN:VTIMEZONE
TZID:America/New_York
BEGIN:DAYLIGHT
TZOFFSETFROM:-0500
TZOFFSETTO:-0400
TZNAME:EDT
DTSTART:20200308T070000
END:DAYLIGHT
BEGIN:STANDARD
TZOFFSETFROM:-0400
TZOFFSETTO:-0500
TZNAME:EST
DTSTART:20201101T060000
END:STANDARD
END:VTIMEZONE
BEGIN:VEVENT
DTSTART;TZID=America/New_York:20200129T190000
DTEND;TZID=America/New_York:20200129T210000
DTSTAMP:20260422T092849
CREATED:20191024T133559Z
LAST-MODIFIED:20191024T133559Z
UID:9594-1580324400-1580331600@sixthavebaptist.com
SUMMARY:Winter Revival
DESCRIPTION:  \n \n  \n  \n  \n  \n  \n  \n  \n  \n  \nDr. Lance D. Watson is a three-time Summa Cum Laude graduate of Wayne State University in Detroit\, Michigan from which he holds the Bachelor of Science in Psychology\, the Bachelor of Arts in Philosophy and the Master of Arts in Guidance and Counseling. He is a Magna Cum Laude Graduate of the Samuel DeWitt Proctor School of Theology at Virginia Union University from which he holds a Master of Divinity and a Summa Cum Laude Graduate of the Presbyterian School of Christian Education at Union Theological Seminary in Richmond\, Virginia. He completed his doctoral studies at United Theological Seminary earning the doctorate of ministry degree. \nHis achievements and recognitions are noteworthy. He has been honored as an Outstanding Community Leader\, Outstanding Contributor to Education\, and Minister of the Year by several organizations. He is listed in Who’s Who in Religion and a member of the Alpha Phi Alpha Fraternity. \nFor over 30 years\, he has served Senior Pastor of the Saint Paul’s Baptist Church of Richmond\, Virginia and chief visionary for its corporate affiliates. He is host of the telecast “Positive Power” seen globally at www.myspbc.org. \nSaint Paul’s is a progressive\, forward-looking\, outreach oriented congregation for “People On the Grow” and serves as the spiritual home for almost 12\,000 persons meeting across three locations in three different counties\, and it supports mission and ministry causes around the globe. \nA fierce proponent of spiritual and economic development\, Saint Paul’s has acquired more than 330 acres of land as part of its plan to construct “The City of Possibility\,” a master planned community that will provide more than 120 acres of housing\, commercial and retail spaces\, a park\, an elementary school\, a performing arts academy\, a retreat and conference center\, an urgent care facility\, an assisted living and memory care community\, an urban farm and community gardens. \nA native of Detroit\, Michigan\, he is married to Rosemary Wilder\, a noted and world traveled singer\, producer and entrepreneur and together they parent three children\, and five grandchildren. \nA gifted communicator\, pastor\, ideapreneur\, television personality\, and cultural architect\, he is the author of three books\, all available at lancewatson.org\, and you can subscribe free to all of his social media publications at iamlancewatson. \n  \n  \n  \n  \n 
URL:https://sixthavebaptist.com/new_staging/event/winter-revival-2-2020-01-29/
END:VEVENT
END:VCALENDAR