BEGIN:VCALENDAR
VERSION:2.0
PRODID:-//Sixth Avenue Baptist Church - ECPv6.8.3//NONSGML v1.0//EN
CALSCALE:GREGORIAN
METHOD:PUBLISH
X-ORIGINAL-URL:https://sixthavebaptist.com/new_staging
X-WR-CALDESC:Events for Sixth Avenue Baptist Church
REFRESH-INTERVAL;VALUE=DURATION:PT1H
X-Robots-Tag:noindex
X-PUBLISHED-TTL:PT1H
BEGIN:VTIMEZONE
TZID:America/New_York
BEGIN:DAYLIGHT
TZOFFSETFROM:-0500
TZOFFSETTO:-0400
TZNAME:EDT
DTSTART:20200308T070000
END:DAYLIGHT
BEGIN:STANDARD
TZOFFSETFROM:-0400
TZOFFSETTO:-0500
TZNAME:EST
DTSTART:20201101T060000
END:STANDARD
END:VTIMEZONE
BEGIN:VEVENT
DTSTART;TZID=America/New_York:20200130T180000
DTEND;TZID=America/New_York:20200130T180000
DTSTAMP:20260424T091658
CREATED:20200109T131719Z
LAST-MODIFIED:20200109T131719Z
UID:9898-1580407200-1580407200@sixthavebaptist.com
SUMMARY:S.E.E.K. Young Adult Ministry Bible Study
DESCRIPTION:THURSDAY\, January 30\, 2020 \n630P – Bible Study “What’s Your Purpose in 2020?” \n  \nLet us know you’re coming by email rspicer@sixthavebaptist.org \n  \nLearn More about the S.E.E.K. Ministry Launch in this video!
URL:https://sixthavebaptist.com/new_staging/event/s-e-e-k-young-adult-ministry-bible-study/
ATTACH;FMTTYPE=:
END:VEVENT
END:VCALENDAR