BEGIN:VCALENDAR
VERSION:2.0
PRODID:-//Sixth Avenue Baptist Church - ECPv6.8.3//NONSGML v1.0//EN
CALSCALE:GREGORIAN
METHOD:PUBLISH
X-ORIGINAL-URL:https://sixthavebaptist.com/new_staging
X-WR-CALDESC:Events for Sixth Avenue Baptist Church
REFRESH-INTERVAL;VALUE=DURATION:PT1H
X-Robots-Tag:noindex
X-PUBLISHED-TTL:PT1H
BEGIN:VTIMEZONE
TZID:America/New_York
BEGIN:DAYLIGHT
TZOFFSETFROM:-0500
TZOFFSETTO:-0400
TZNAME:EDT
DTSTART:20200308T070000
END:DAYLIGHT
BEGIN:STANDARD
TZOFFSETFROM:-0400
TZOFFSETTO:-0500
TZNAME:EST
DTSTART:20201101T060000
END:STANDARD
END:VTIMEZONE
BEGIN:VEVENT
DTSTART;TZID=America/New_York:20200229T170000
DTEND;TZID=America/New_York:20200229T190000
DTSTAMP:20260422T075700
CREATED:20200128T184856Z
LAST-MODIFIED:20200128T184856Z
UID:9900-1582995600-1583002800@sixthavebaptist.com
SUMMARY:The Untold Stories
DESCRIPTION:On Saturday\, February 29\, 2020 at 5:00 pm\, we will have our Black History Program entitled\, The Untold Stories\, presented by the Youth Ministry for Christian Dance. This program will honor the men and women who were pioneers for change in Birmingham and beyond.
URL:https://sixthavebaptist.com/new_staging/event/the-untold-stories/
ATTACH;FMTTYPE=:
END:VEVENT
END:VCALENDAR