BEGIN:VCALENDAR
VERSION:2.0
PRODID:-//Sixth Avenue Baptist Church - ECPv6.8.3//NONSGML v1.0//EN
CALSCALE:GREGORIAN
METHOD:PUBLISH
X-ORIGINAL-URL:https://sixthavebaptist.com/new_staging
X-WR-CALDESC:Events for Sixth Avenue Baptist Church
REFRESH-INTERVAL;VALUE=DURATION:PT1H
X-Robots-Tag:noindex
X-PUBLISHED-TTL:PT1H
BEGIN:VTIMEZONE
TZID:America/New_York
BEGIN:DAYLIGHT
TZOFFSETFROM:-0500
TZOFFSETTO:-0400
TZNAME:EDT
DTSTART:20200308T070000
END:DAYLIGHT
BEGIN:STANDARD
TZOFFSETFROM:-0400
TZOFFSETTO:-0500
TZNAME:EST
DTSTART:20201101T060000
END:STANDARD
END:VTIMEZONE
BEGIN:VEVENT
DTSTART;TZID=America/New_York:20200301T123000
DTEND;TZID=America/New_York:20200301T133000
DTSTAMP:20260422T075700
CREATED:20200226T095526Z
LAST-MODIFIED:20200226T095526Z
UID:9904-1583065800-1583069400@sixthavebaptist.com
SUMMARY:SABC Christian Singles Book Club - March 2020 Meeting
DESCRIPTION:
URL:https://sixthavebaptist.com/new_staging/event/sabc-christian-singles-book-club-march-2020-meeting/
ATTACH;FMTTYPE=:
END:VEVENT
END:VCALENDAR