BEGIN:VCALENDAR
VERSION:2.0
PRODID:-//Sixth Avenue Baptist Church - ECPv6.8.3//NONSGML v1.0//EN
CALSCALE:GREGORIAN
METHOD:PUBLISH
X-WR-CALNAME:Sixth Avenue Baptist Church
X-ORIGINAL-URL:https://sixthavebaptist.com/new_staging
X-WR-CALDESC:Events for Sixth Avenue Baptist Church
REFRESH-INTERVAL;VALUE=DURATION:PT1H
X-Robots-Tag:noindex
X-PUBLISHED-TTL:PT1H
BEGIN:VTIMEZONE
TZID:America/New_York
BEGIN:DAYLIGHT
TZOFFSETFROM:-0500
TZOFFSETTO:-0400
TZNAME:EDT
DTSTART:20200308T070000
END:DAYLIGHT
BEGIN:STANDARD
TZOFFSETFROM:-0400
TZOFFSETTO:-0500
TZNAME:EST
DTSTART:20201101T060000
END:STANDARD
END:VTIMEZONE
BEGIN:VEVENT
DTSTART;TZID=America/New_York:20200723T183000
DTEND;TZID=America/New_York:20200723T193000
DTSTAMP:20260422T011521
CREATED:20200709T122951Z
LAST-MODIFIED:20200709T122951Z
UID:10556-1595529000-1595532600@sixthavebaptist.com
SUMMARY:The Pandemic And Grief
DESCRIPTION:The Complicated Grief and Loss ministry is hosting a discussion entitled “The Pandemic and Grief”. Please join this meeting via ZOOM on July 23\, 2020\, at 6:30 pm. \nClick the link below! \nJerome Crawford is inviting you to a scheduled Zoom meeting. \nTopic: The Pandemic & Grief\nTime: Jul 23\, 2020 06:30 PM Central Time (US and Canada) \nJoin Zoom Meeting\nhttps://us02web.zoom.us/j/84331483335… \n\n\n\n\n\nMeeting ID: 843 3148 3335\nPassword: 304737
URL:https://sixthavebaptist.com/new_staging/event/the-pandemic-and-grief/
END:VEVENT
END:VCALENDAR