BEGIN:VCALENDAR
VERSION:2.0
PRODID:-//Sixth Avenue Baptist Church - ECPv6.8.3//NONSGML v1.0//EN
CALSCALE:GREGORIAN
METHOD:PUBLISH
X-ORIGINAL-URL:https://sixthavebaptist.com/new_staging
X-WR-CALDESC:Events for Sixth Avenue Baptist Church
REFRESH-INTERVAL;VALUE=DURATION:PT1H
X-Robots-Tag:noindex
X-PUBLISHED-TTL:PT1H
BEGIN:VTIMEZONE
TZID:America/New_York
BEGIN:DAYLIGHT
TZOFFSETFROM:-0500
TZOFFSETTO:-0400
TZNAME:EDT
DTSTART:20200308T070000
END:DAYLIGHT
BEGIN:STANDARD
TZOFFSETFROM:-0400
TZOFFSETTO:-0500
TZNAME:EST
DTSTART:20201101T060000
END:STANDARD
END:VTIMEZONE
BEGIN:VEVENT
DTSTART;TZID=America/New_York:20200923T183000
DTEND;TZID=America/New_York:20200923T193000
DTSTAMP:20260421T150117
CREATED:20200913T113251Z
LAST-MODIFIED:20200913T113251Z
UID:10680-1600885800-1600889400@sixthavebaptist.com
SUMMARY:Adult Bible Study
DESCRIPTION:New Wednesday Night Bible Study\nSeptember 23\, 2020 @ 6:30 P.M.Facilitator: Cynthia StrongTRIALS: GOD’S REFINING FIRE     AUTHOR: June Hunt  \nThis class is appropriate for all adults.Do you ever feel like you are being tested? Have you ever wondered how much more you can take?When the heat of the trial has been turned up yet another notch\, how can you hang onto hope? DISCOVER HOW TO . . . • Face your trial positively • Persevere through your trial patiently • Finish your trial maturely \nJoin us on Wednesdays at 6:30 PM for a dynamic discussion and fellowship. \nJoin Zoom Meeting\nhttps://us02web.zoom.us/j/2058354074?pwd=TG9hTzM3aDJGbDBHd3FXNlMzMWl0Zz09 \nMeeting ID: 205 835 4074Passcode: 2058354074
URL:https://sixthavebaptist.com/new_staging/event/adult-bible-study/
END:VEVENT
END:VCALENDAR