BEGIN:VCALENDAR
VERSION:2.0
PRODID:-//Sixth Avenue Baptist Church - ECPv6.8.3//NONSGML v1.0//EN
CALSCALE:GREGORIAN
METHOD:PUBLISH
X-ORIGINAL-URL:https://sixthavebaptist.com/new_staging
X-WR-CALDESC:Events for Sixth Avenue Baptist Church
REFRESH-INTERVAL;VALUE=DURATION:PT1H
X-Robots-Tag:noindex
X-PUBLISHED-TTL:PT1H
BEGIN:VTIMEZONE
TZID:America/New_York
BEGIN:DAYLIGHT
TZOFFSETFROM:-0500
TZOFFSETTO:-0400
TZNAME:EDT
DTSTART:20210314T070000
END:DAYLIGHT
BEGIN:STANDARD
TZOFFSETFROM:-0400
TZOFFSETTO:-0500
TZNAME:EST
DTSTART:20211107T060000
END:STANDARD
END:VTIMEZONE
BEGIN:VEVENT
DTSTART;TZID=America/New_York:20210123T183000
DTEND;TZID=America/New_York:20210123T200000
DTSTAMP:20260421T110256
CREATED:20201117T105254Z
LAST-MODIFIED:20201117T105254Z
UID:10829-1611426600-1611432000@sixthavebaptist.com
SUMMARY:Worship Arts and Music Department Choir Ministry Vision Casting
DESCRIPTION:  \n \n  \nJoin a Zoom meeting online by visiting:  https://zoom.us/join
URL:https://sixthavebaptist.com/new_staging/event/worship-arts-and-music-department-choir-ministry-vision-casting/
END:VEVENT
END:VCALENDAR