BEGIN:VCALENDAR
VERSION:2.0
PRODID:-//Sixth Avenue Baptist Church - ECPv6.8.3//NONSGML v1.0//EN
CALSCALE:GREGORIAN
METHOD:PUBLISH
X-WR-CALNAME:Sixth Avenue Baptist Church
X-ORIGINAL-URL:https://sixthavebaptist.com/new_staging
X-WR-CALDESC:Events for Sixth Avenue Baptist Church
REFRESH-INTERVAL;VALUE=DURATION:PT1H
X-Robots-Tag:noindex
X-PUBLISHED-TTL:PT1H
BEGIN:VTIMEZONE
TZID:UTC
BEGIN:STANDARD
TZOFFSETFROM:+0000
TZOFFSETTO:+0000
TZNAME:UTC
DTSTART:20230101T000000
END:STANDARD
END:VTIMEZONE
BEGIN:VEVENT
DTSTART;TZID=UTC:20231004T100000
DTEND;TZID=UTC:20231004T110000
DTSTAMP:20260420T161011
CREATED:20230922T131548Z
LAST-MODIFIED:20230922T131548Z
UID:13806-1696413600-1696417200@sixthavebaptist.com
SUMMARY:Prayer Meeting
DESCRIPTION:
URL:https://sixthavebaptist.com/new_staging/event/prayer-meeting-4/
ATTACH;FMTTYPE=image/jpeg:https://sixthavebaptist.com/new_staging/wp-content/uploads/2023/09/Pray-Meeting-1.jpg
END:VEVENT
BEGIN:VEVENT
DTSTART;TZID=UTC:20231004T183000
DTEND;TZID=UTC:20231004T193000
DTSTAMP:20260420T161012
CREATED:20230922T132444Z
LAST-MODIFIED:20230922T133206Z
UID:13826-1696444200-1696447800@sixthavebaptist.com
SUMMARY:WOW Bible Study 1 John 1\, 2 & 3
DESCRIPTION:1 John 2:29-3:24 \nPractice Righteousness\, Pursue Love\, Possess Assurance \nTeacher: Tampia Anderson
URL:https://sixthavebaptist.com/new_staging/event/wow-bible-study-1-john-1-2-3-2/
END:VEVENT
END:VCALENDAR