BEGIN:VCALENDAR
VERSION:2.0
PRODID:-//Sixth Avenue Baptist Church - ECPv6.8.3//NONSGML v1.0//EN
CALSCALE:GREGORIAN
METHOD:PUBLISH
X-ORIGINAL-URL:https://sixthavebaptist.com/new_staging
X-WR-CALDESC:Events for Sixth Avenue Baptist Church
REFRESH-INTERVAL;VALUE=DURATION:PT1H
X-Robots-Tag:noindex
X-PUBLISHED-TTL:PT1H
BEGIN:VTIMEZONE
TZID:America/New_York
BEGIN:DAYLIGHT
TZOFFSETFROM:-0500
TZOFFSETTO:-0400
TZNAME:EDT
DTSTART:20180311T070000
END:DAYLIGHT
BEGIN:STANDARD
TZOFFSETFROM:-0400
TZOFFSETTO:-0500
TZNAME:EST
DTSTART:20181104T060000
END:STANDARD
END:VTIMEZONE
BEGIN:VEVENT
DTSTART;TZID=America/New_York:20181014T100000
DTEND;TZID=America/New_York:20181014T160000
DTSTAMP:20260425T230657
CREATED:20180824T151136Z
LAST-MODIFIED:20180824T151136Z
UID:7160-1539511200-1539532800@sixthavebaptist.com
SUMMARY:Tailgate Sunday
DESCRIPTION:
URL:https://sixthavebaptist.com/new_staging/event/tailgate-sunday-5/
END:VEVENT
BEGIN:VEVENT
DTSTART;TZID=America/New_York:20181021T160000
DTEND;TZID=America/New_York:20181021T180000
DTSTAMP:20260425T230657
CREATED:20181004T110839Z
LAST-MODIFIED:20181004T110839Z
UID:7339-1540137600-1540144800@sixthavebaptist.com
SUMMARY:Progressive Choir Harvest Concert
DESCRIPTION:Sanctuary
URL:https://sixthavebaptist.com/new_staging/event/progressive-choir-harvest-concert-2/
END:VEVENT
END:VCALENDAR