BEGIN:VCALENDAR
VERSION:2.0
PRODID:-//Sixth Avenue Baptist Church - ECPv6.8.3//NONSGML v1.0//EN
CALSCALE:GREGORIAN
METHOD:PUBLISH
X-ORIGINAL-URL:https://sixthavebaptist.com/new_staging
X-WR-CALDESC:Events for Sixth Avenue Baptist Church
REFRESH-INTERVAL;VALUE=DURATION:PT1H
X-Robots-Tag:noindex
X-PUBLISHED-TTL:PT1H
BEGIN:VTIMEZONE
TZID:America/New_York
BEGIN:DAYLIGHT
TZOFFSETFROM:-0500
TZOFFSETTO:-0400
TZNAME:EDT
DTSTART:20190310T070000
END:DAYLIGHT
BEGIN:STANDARD
TZOFFSETFROM:-0400
TZOFFSETTO:-0500
TZNAME:EST
DTSTART:20191103T060000
END:STANDARD
END:VTIMEZONE
BEGIN:VEVENT
DTSTART;VALUE=DATE:20190704
DTEND;VALUE=DATE:20190705
DTSTAMP:20260422T231803
CREATED:20181130T150410Z
LAST-MODIFIED:20181130T150410Z
UID:8106-1562198400-1562284799@sixthavebaptist.com
SUMMARY:Church Closed in Observance of Independence Day
DESCRIPTION:
URL:https://sixthavebaptist.com/new_staging/event/church-closed-in-observance-of-independence-day/
END:VEVENT
BEGIN:VEVENT
DTSTART;TZID=America/New_York:20190720T160000
DTEND;TZID=America/New_York:20190720T200000
DTSTAMP:20260422T231803
CREATED:20190723T010637Z
LAST-MODIFIED:20190723T010637Z
UID:9241-1563638400-1563652800@sixthavebaptist.com
SUMMARY:Family Game Night
DESCRIPTION:
URL:https://sixthavebaptist.com/new_staging/event/family-game-night-2/
END:VEVENT
BEGIN:VEVENT
DTSTART;TZID=America/New_York:20190725T170000
DTEND;TZID=America/New_York:20190725T200000
DTSTAMP:20260422T231803
CREATED:20190723T010816Z
LAST-MODIFIED:20190723T010816Z
UID:9246-1564074000-1564084800@sixthavebaptist.com
SUMMARY:Back to School Bash 2019
DESCRIPTION:
URL:https://sixthavebaptist.com/new_staging/event/back-to-school-bash-2019/
END:VEVENT
BEGIN:VEVENT
DTSTART;TZID=America/New_York:20190725T180000
DTEND;TZID=America/New_York:20190725T193000
DTSTAMP:20260422T231803
CREATED:20181130T161414Z
LAST-MODIFIED:20181130T161414Z
UID:8334-1564077600-1564083000@sixthavebaptist.com
SUMMARY:Sanctuary Choir Rehearsal
DESCRIPTION:Music Room
URL:https://sixthavebaptist.com/new_staging/event/sanctuary-choir-rehearsal-5-2019-07-25/
END:VEVENT
BEGIN:VEVENT
DTSTART;TZID=America/New_York:20190726T183000
DTEND;TZID=America/New_York:20190726T193000
DTSTAMP:20260422T231803
CREATED:20181130T115616Z
LAST-MODIFIED:20181130T115616Z
UID:8041-1564165800-1564169400@sixthavebaptist.com
SUMMARY:Couples Urban Ballroom Dance lessons
DESCRIPTION:Fellowship Hall
URL:https://sixthavebaptist.com/new_staging/event/couples-urban-ballroom-dance-lessons-2019-07-26/
END:VEVENT
END:VCALENDAR