BEGIN:VCALENDAR
VERSION:2.0
PRODID:-//Sixth Avenue Baptist Church - ECPv6.8.3//NONSGML v1.0//EN
CALSCALE:GREGORIAN
METHOD:PUBLISH
X-WR-CALNAME:Sixth Avenue Baptist Church
X-ORIGINAL-URL:https://sixthavebaptist.com/new_staging
X-WR-CALDESC:Events for Sixth Avenue Baptist Church
REFRESH-INTERVAL;VALUE=DURATION:PT1H
X-Robots-Tag:noindex
X-PUBLISHED-TTL:PT1H
BEGIN:VTIMEZONE
TZID:America/New_York
BEGIN:DAYLIGHT
TZOFFSETFROM:-0500
TZOFFSETTO:-0400
TZNAME:EDT
DTSTART:20200308T070000
END:DAYLIGHT
BEGIN:STANDARD
TZOFFSETFROM:-0400
TZOFFSETTO:-0500
TZNAME:EST
DTSTART:20201101T060000
END:STANDARD
END:VTIMEZONE
BEGIN:VEVENT
DTSTART;TZID=America/New_York:20200202T123000
DTEND;TZID=America/New_York:20200202T133000
DTSTAMP:20260422T075537
CREATED:20200109T200645Z
LAST-MODIFIED:20200109T200645Z
UID:9899-1580646600-1580650200@sixthavebaptist.com
SUMMARY:Christian Singles Book Club
DESCRIPTION:
URL:https://sixthavebaptist.com/new_staging/event/christian-singles-book-club-2/
ATTACH;FMTTYPE=:
END:VEVENT
BEGIN:VEVENT
DTSTART;TZID=America/New_York:20200209T083000
DTEND;TZID=America/New_York:20200209T100000
DTSTAMP:20260422T075537
CREATED:20181121T110224Z
LAST-MODIFIED:20181121T110224Z
UID:8079-1581237000-1581242400@sixthavebaptist.com
SUMMARY:Collision Church
DESCRIPTION:Collision is a new ministry for youth in 7th – 12th grades. \n\nCollision Church (Teen Church) meets on 2nd Sunday  at 8:30 am in the Chapel\nCollision Night (Teen Talk) meets on Wednesday at 6:45 pm in the Chapel\n\n 
URL:https://sixthavebaptist.com/new_staging/event/collision-church-2020-02-09/
END:VEVENT
BEGIN:VEVENT
DTSTART;TZID=America/New_York:20200222T090000
DTEND;TZID=America/New_York:20200222T130000
DTSTAMP:20260422T075537
CREATED:20200207T185154Z
LAST-MODIFIED:20200207T185154Z
UID:9901-1582362000-1582376400@sixthavebaptist.com
SUMMARY:2020 Health Fair
DESCRIPTION:CLICK HERE FOR DETAILS!
URL:https://sixthavebaptist.com/new_staging/event/2020-health-fair/
ATTACH;FMTTYPE=:
END:VEVENT
BEGIN:VEVENT
DTSTART;TZID=America/New_York:20200229T170000
DTEND;TZID=America/New_York:20200229T190000
DTSTAMP:20260422T075537
CREATED:20200128T184856Z
LAST-MODIFIED:20200128T184856Z
UID:9900-1582995600-1583002800@sixthavebaptist.com
SUMMARY:The Untold Stories
DESCRIPTION:On Saturday\, February 29\, 2020 at 5:00 pm\, we will have our Black History Program entitled\, The Untold Stories\, presented by the Youth Ministry for Christian Dance. This program will honor the men and women who were pioneers for change in Birmingham and beyond.
URL:https://sixthavebaptist.com/new_staging/event/the-untold-stories/
ATTACH;FMTTYPE=:
END:VEVENT
END:VCALENDAR