BEGIN:VCALENDAR
VERSION:2.0
PRODID:-//Sixth Avenue Baptist Church - ECPv6.8.3//NONSGML v1.0//EN
CALSCALE:GREGORIAN
METHOD:PUBLISH
X-ORIGINAL-URL:https://sixthavebaptist.com/new_staging
X-WR-CALDESC:Events for Sixth Avenue Baptist Church
REFRESH-INTERVAL;VALUE=DURATION:PT1H
X-Robots-Tag:noindex
X-PUBLISHED-TTL:PT1H
BEGIN:VTIMEZONE
TZID:America/New_York
BEGIN:DAYLIGHT
TZOFFSETFROM:-0500
TZOFFSETTO:-0400
TZNAME:EDT
DTSTART:20200308T070000
END:DAYLIGHT
BEGIN:STANDARD
TZOFFSETFROM:-0400
TZOFFSETTO:-0500
TZNAME:EST
DTSTART:20201101T060000
END:STANDARD
END:VTIMEZONE
BEGIN:VEVENT
DTSTART;TZID=America/New_York:20200606T180000
DTEND;TZID=America/New_York:20200606T190000
DTSTAMP:20260422T023157
CREATED:20200515T143429Z
LAST-MODIFIED:20200515T143429Z
UID:10457-1591466400-1591470000@sixthavebaptist.com
SUMMARY:Worship Arts & MusicEmpowerment Session & Interest Meeting
DESCRIPTION:Join us on Facebook Live (CLICK HERE TO VISIT OUR PAGE) for this event!
URL:https://sixthavebaptist.com/new_staging/event/worship-arts-musicempowerment-session-interest-meeting/
END:VEVENT
BEGIN:VEVENT
DTSTART;TZID=America/New_York:20200607T130000
DTEND;TZID=America/New_York:20200607T140000
DTSTAMP:20260422T023157
CREATED:20200515T141328Z
LAST-MODIFIED:20200515T141328Z
UID:10439-1591534800-1591538400@sixthavebaptist.com
SUMMARY:Christian Singles Book Club
DESCRIPTION:
URL:https://sixthavebaptist.com/new_staging/event/christian-singles-book-club-3/
END:VEVENT
BEGIN:VEVENT
DTSTART;TZID=America/New_York:20200614T083000
DTEND;TZID=America/New_York:20200614T100000
DTSTAMP:20260422T023157
CREATED:20181121T110224Z
LAST-MODIFIED:20181121T110224Z
UID:8083-1592123400-1592128800@sixthavebaptist.com
SUMMARY:Collision Church
DESCRIPTION:Collision is a new ministry for youth in 7th – 12th grades. \n\nCollision Church (Teen Church) meets on 2nd Sunday  at 8:30 am in the Chapel\nCollision Night (Teen Talk) meets on Wednesday at 6:45 pm in the Chapel\n\n 
URL:https://sixthavebaptist.com/new_staging/event/collision-church-2020-06-14/
END:VEVENT
END:VCALENDAR