BEGIN:VCALENDAR
VERSION:2.0
PRODID:-//Sixth Avenue Baptist Church - ECPv6.8.3//NONSGML v1.0//EN
CALSCALE:GREGORIAN
METHOD:PUBLISH
X-WR-CALNAME:Sixth Avenue Baptist Church
X-ORIGINAL-URL:https://sixthavebaptist.com/new_staging
X-WR-CALDESC:Events for Sixth Avenue Baptist Church
REFRESH-INTERVAL;VALUE=DURATION:PT1H
X-Robots-Tag:noindex
X-PUBLISHED-TTL:PT1H
BEGIN:VTIMEZONE
TZID:America/New_York
BEGIN:DAYLIGHT
TZOFFSETFROM:-0500
TZOFFSETTO:-0400
TZNAME:EDT
DTSTART:20200308T070000
END:DAYLIGHT
BEGIN:STANDARD
TZOFFSETFROM:-0400
TZOFFSETTO:-0500
TZNAME:EST
DTSTART:20201101T060000
END:STANDARD
END:VTIMEZONE
BEGIN:VEVENT
DTSTART;TZID=America/New_York:20200913T083000
DTEND;TZID=America/New_York:20200913T100000
DTSTAMP:20260421T145953
CREATED:20181121T110224Z
LAST-MODIFIED:20181121T110224Z
UID:8086-1599985800-1599991200@sixthavebaptist.com
SUMMARY:Collision Church
DESCRIPTION:Collision is a new ministry for youth in 7th – 12th grades. \n\nCollision Church (Teen Church) meets on 2nd Sunday  at 8:30 am in the Chapel\nCollision Night (Teen Talk) meets on Wednesday at 6:45 pm in the Chapel\n\n 
URL:https://sixthavebaptist.com/new_staging/event/collision-church-2020-09-13/
END:VEVENT
BEGIN:VEVENT
DTSTART;TZID=America/New_York:20200913T130000
DTEND;TZID=America/New_York:20200913T140000
DTSTAMP:20260421T145953
CREATED:20200809T085555Z
LAST-MODIFIED:20200809T085555Z
UID:10610-1600002000-1600005600@sixthavebaptist.com
SUMMARY:September 2020 Book Club Meeting
DESCRIPTION:  \nDate: Sunday\, September 13\, 2020\nTime: 1:00 p.m. \nType: Zoom conference \nBook: Defined – Who God Says You Are \nAuthor: Stephen Kendrick & Alex Kendrick with Lawrence Kimbrough
URL:https://sixthavebaptist.com/new_staging/event/september-2020-book-club-meeting/
END:VEVENT
BEGIN:VEVENT
DTSTART;TZID=America/New_York:20200923T183000
DTEND;TZID=America/New_York:20200923T193000
DTSTAMP:20260421T145953
CREATED:20200913T113251Z
LAST-MODIFIED:20200913T113251Z
UID:10680-1600885800-1600889400@sixthavebaptist.com
SUMMARY:Adult Bible Study
DESCRIPTION:New Wednesday Night Bible Study\nSeptember 23\, 2020 @ 6:30 P.M.Facilitator: Cynthia StrongTRIALS: GOD’S REFINING FIRE     AUTHOR: June Hunt  \nThis class is appropriate for all adults.Do you ever feel like you are being tested? Have you ever wondered how much more you can take?When the heat of the trial has been turned up yet another notch\, how can you hang onto hope? DISCOVER HOW TO . . . • Face your trial positively • Persevere through your trial patiently • Finish your trial maturely \nJoin us on Wednesdays at 6:30 PM for a dynamic discussion and fellowship. \nJoin Zoom Meeting\nhttps://us02web.zoom.us/j/2058354074?pwd=TG9hTzM3aDJGbDBHd3FXNlMzMWl0Zz09 \nMeeting ID: 205 835 4074Passcode: 2058354074
URL:https://sixthavebaptist.com/new_staging/event/adult-bible-study/
END:VEVENT
END:VCALENDAR