BEGIN:VCALENDAR
VERSION:2.0
PRODID:-//Sixth Avenue Baptist Church - ECPv6.8.3//NONSGML v1.0//EN
CALSCALE:GREGORIAN
METHOD:PUBLISH
X-WR-CALNAME:Sixth Avenue Baptist Church
X-ORIGINAL-URL:https://sixthavebaptist.com/new_staging
X-WR-CALDESC:Events for Sixth Avenue Baptist Church
REFRESH-INTERVAL;VALUE=DURATION:PT1H
X-Robots-Tag:noindex
X-PUBLISHED-TTL:PT1H
BEGIN:VTIMEZONE
TZID:America/New_York
BEGIN:DAYLIGHT
TZOFFSETFROM:-0500
TZOFFSETTO:-0400
TZNAME:EDT
DTSTART:20200308T070000
END:DAYLIGHT
BEGIN:STANDARD
TZOFFSETFROM:-0400
TZOFFSETTO:-0500
TZNAME:EST
DTSTART:20201101T060000
END:STANDARD
END:VTIMEZONE
BEGIN:VEVENT
DTSTART;TZID=America/New_York:20201004T080000
DTEND;TZID=America/New_York:20201107T170000
DTSTAMP:20260421T122602
CREATED:20201016T124441Z
LAST-MODIFIED:20201016T124441Z
UID:10758-1601798400-1604768400@sixthavebaptist.com
SUMMARY:SABC Alzheimer's Fundraiser
DESCRIPTION:  \n 
URL:https://sixthavebaptist.com/new_staging/event/sabc-alzheimers-fundraiser/
END:VEVENT
BEGIN:VEVENT
DTSTART;TZID=America/New_York:20201011T083000
DTEND;TZID=America/New_York:20201011T100000
DTSTAMP:20260421T122602
CREATED:20181121T110224Z
LAST-MODIFIED:20181121T110224Z
UID:8087-1602405000-1602410400@sixthavebaptist.com
SUMMARY:Collision Church
DESCRIPTION:Collision is a new ministry for youth in 7th – 12th grades. \n\nCollision Church (Teen Church) meets on 2nd Sunday  at 8:30 am in the Chapel\nCollision Night (Teen Talk) meets on Wednesday at 6:45 pm in the Chapel\n\n 
URL:https://sixthavebaptist.com/new_staging/event/collision-church-2020-10-11/
END:VEVENT
BEGIN:VEVENT
DTSTART;TZID=America/New_York:20201011T090000
DTEND;TZID=America/New_York:20201011T103000
DTSTAMP:20260421T122602
CREATED:20201007T123922Z
LAST-MODIFIED:20201007T123922Z
UID:10735-1602406800-1602412200@sixthavebaptist.com
SUMMARY:Ignite Young Adult Sunday Bible Study
DESCRIPTION:  \nhttp://us02web.zoo.us/j/.9501285165 to join the meeting.
URL:https://sixthavebaptist.com/new_staging/event/ignite-young-adult-sunday-bible-study/
END:VEVENT
BEGIN:VEVENT
DTSTART;TZID=America/New_York:20201022T183000
DTEND;TZID=America/New_York:20201022T193000
DTSTAMP:20260421T122602
CREATED:20201016T115751Z
LAST-MODIFIED:20201016T115751Z
UID:10753-1603391400-1603395000@sixthavebaptist.com
SUMMARY:Complicated Grief And Loss Ministry Monthly Meeting
DESCRIPTION:The Complicated Grief and Loss Ministry will be meeting on Thursday\, October 22 at 6:30 pm via Zoom. The group discussion will be led by our very own\, Kate Bushelon of Bushelon Funeral Services.\n\n\n\nTopic: SABC – October Session\, Complicated Grief and Loss Ministry\nTime: Oct 22\, 2020 06:30 PM Central Time (US and Canada)\n\n\nJoin Zoom Meeting\nhttps://us02web.zoom.us/j/84206588238… \n\n\n\n\n\n\n\n\n\nMeeting ID: 842 0658 8238\nPasscode: 822772
URL:https://sixthavebaptist.com/new_staging/event/complicated-grief-and-loss-ministry-monthly-meeting/
END:VEVENT
END:VCALENDAR