BEGIN:VCALENDAR
VERSION:2.0
PRODID:-//Sixth Avenue Baptist Church - ECPv6.8.3//NONSGML v1.0//EN
CALSCALE:GREGORIAN
METHOD:PUBLISH
X-ORIGINAL-URL:https://sixthavebaptist.com/new_staging
X-WR-CALDESC:Events for Sixth Avenue Baptist Church
REFRESH-INTERVAL;VALUE=DURATION:PT1H
X-Robots-Tag:noindex
X-PUBLISHED-TTL:PT1H
BEGIN:VTIMEZONE
TZID:America/New_York
BEGIN:DAYLIGHT
TZOFFSETFROM:-0500
TZOFFSETTO:-0400
TZNAME:EDT
DTSTART:20200308T070000
END:DAYLIGHT
BEGIN:STANDARD
TZOFFSETFROM:-0400
TZOFFSETTO:-0500
TZNAME:EST
DTSTART:20201101T060000
END:STANDARD
END:VTIMEZONE
BEGIN:VEVENT
DTSTART;TZID=America/New_York:20201004T080000
DTEND;TZID=America/New_York:20201107T170000
DTSTAMP:20260421T110421
CREATED:20201016T124441Z
LAST-MODIFIED:20201016T124441Z
UID:10758-1601798400-1604768400@sixthavebaptist.com
SUMMARY:SABC Alzheimer's Fundraiser
DESCRIPTION:  \n 
URL:https://sixthavebaptist.com/new_staging/event/sabc-alzheimers-fundraiser/
END:VEVENT
BEGIN:VEVENT
DTSTART;TZID=America/New_York:20201108T083000
DTEND;TZID=America/New_York:20201108T100000
DTSTAMP:20260421T110421
CREATED:20181121T110224Z
LAST-MODIFIED:20181121T110224Z
UID:8088-1604824200-1604829600@sixthavebaptist.com
SUMMARY:Collision Church
DESCRIPTION:Collision is a new ministry for youth in 7th – 12th grades. \n\nCollision Church (Teen Church) meets on 2nd Sunday  at 8:30 am in the Chapel\nCollision Night (Teen Talk) meets on Wednesday at 6:45 pm in the Chapel\n\n 
URL:https://sixthavebaptist.com/new_staging/event/collision-church-2020-11-08/
END:VEVENT
BEGIN:VEVENT
DTSTART;TZID=America/New_York:20201121T100000
DTEND;TZID=America/New_York:20201121T110000
DTSTAMP:20260421T110421
CREATED:20201029T101419Z
LAST-MODIFIED:20201029T101419Z
UID:10782-1605952800-1605956400@sixthavebaptist.com
SUMMARY:Complicated Grief and Loss Ministry November Session
DESCRIPTION:  \n\n\nThe Complicated Grief and Loss Ministry is hosting an event entitled “Hope for the Holidays” on November 21\, 2020\, at 10 am.\nThe guest speaker will be Dr. Doris Vaughans from the Tuscaloosa Center for Cognitive Therapy.\n\nWe pray this event will help those grieving during this holiday season.\n\n\n\n\n\n\nJoin Zoom Meeting\nhttps://us02web.zoom.us/j/83633546797?pwd=WExvU29ZR25oR3hWZXZNU1ZwcFhYdz09\n\nMeeting ID: 836 3354 6797\nPasscode: 953132
URL:https://sixthavebaptist.com/new_staging/event/complicated-grief-and-loss-ministry-november-session/
END:VEVENT
END:VCALENDAR