BEGIN:VCALENDAR
VERSION:2.0
PRODID:-//Sixth Avenue Baptist Church - ECPv6.8.3//NONSGML v1.0//EN
CALSCALE:GREGORIAN
METHOD:PUBLISH
X-WR-CALNAME:Sixth Avenue Baptist Church
X-ORIGINAL-URL:https://sixthavebaptist.com/new_staging
X-WR-CALDESC:Events for Sixth Avenue Baptist Church
REFRESH-INTERVAL;VALUE=DURATION:PT1H
X-Robots-Tag:noindex
X-PUBLISHED-TTL:PT1H
BEGIN:VTIMEZONE
TZID:America/New_York
BEGIN:DAYLIGHT
TZOFFSETFROM:-0500
TZOFFSETTO:-0400
TZNAME:EDT
DTSTART:20210314T070000
END:DAYLIGHT
BEGIN:STANDARD
TZOFFSETFROM:-0400
TZOFFSETTO:-0500
TZNAME:EST
DTSTART:20211107T060000
END:STANDARD
END:VTIMEZONE
BEGIN:VEVENT
DTSTART;TZID=America/New_York:20210103T130000
DTEND;TZID=America/New_York:20210103T143000
DTSTAMP:20260421T084215
CREATED:20201223T145528Z
LAST-MODIFIED:20201223T145528Z
UID:10896-1609678800-1609684200@sixthavebaptist.com
SUMMARY:Christian Singles Monthly Book Club Meeting
DESCRIPTION:Join by clicking below! \nhttps://us02web.zoom.us/j/85394260662?pwd=am1rbmxKMG1vZ215ejBBR04wMDlaUT09 \nMeeting ID: 853 9426 0662\nPasscode: 658352
URL:https://sixthavebaptist.com/new_staging/event/christian-singles-monthly-book-club-meeting/
END:VEVENT
BEGIN:VEVENT
DTSTART;TZID=America/New_York:20210111T071500
DTEND;TZID=America/New_York:20210111T074500
DTSTAMP:20260421T084215
CREATED:20210110T123225Z
LAST-MODIFIED:20210110T123225Z
UID:12461-1610349300-1610351100@sixthavebaptist.com
SUMMARY:Monday Morning Meditation (Virtual)
DESCRIPTION:Click the picture to join or use the codes listed! \nLink to meeting is: https://zoom.us/j/98134735449?pwd=YXhLYUJHV2J0RGVGa3N6ekx3Ull5Zz09 \n  \n 
URL:https://sixthavebaptist.com/new_staging/event/monday-morning-meditation-virtual/
END:VEVENT
BEGIN:VEVENT
DTSTART;TZID=America/New_York:20210112T110000
DTEND;TZID=America/New_York:20210112T113000
DTSTAMP:20260421T084215
CREATED:20210110T123554Z
LAST-MODIFIED:20210110T123554Z
UID:12463-1610449200-1610451000@sixthavebaptist.com
SUMMARY:Mid-Day Women's Class (Virtual)
DESCRIPTION:
URL:https://sixthavebaptist.com/new_staging/event/mid-day-womens-class-virtual/
END:VEVENT
BEGIN:VEVENT
DTSTART;TZID=America/New_York:20210113T183000
DTEND;TZID=America/New_York:20210113T190000
DTSTAMP:20260421T084215
CREATED:20210110T122920Z
LAST-MODIFIED:20210110T122920Z
UID:12415-1610562600-1610564400@sixthavebaptist.com
SUMMARY:Adult Bible Study (Virtual)
DESCRIPTION:WAYS TO WATCH: \nHERE ON OUR WEBSITE \nLIVE ON OUR FACEBOOK \nLIVE ON OUR YOUTUBE PAGE
URL:https://sixthavebaptist.com/new_staging/event/adult-bible-study-virtual/
END:VEVENT
BEGIN:VEVENT
DTSTART;TZID=America/New_York:20210117T083000
DTEND;TZID=America/New_York:20210117T093000
DTSTAMP:20260421T084215
CREATED:20210110T125406Z
LAST-MODIFIED:20210110T125406Z
UID:12503-1610872200-1610875800@sixthavebaptist.com
SUMMARY:Sunday Morning Worship - Early (Virtual)
DESCRIPTION:WAYS TO WATCH: \nHERE ON OUR WEBSITE \nLIVE ON OUR FACEBOOK \nLIVE ON OUR YOUTUBE PAGE
URL:https://sixthavebaptist.com/new_staging/event/sunday-morning-worship-early-virtual/
END:VEVENT
BEGIN:VEVENT
DTSTART;TZID=America/New_York:20210117T110000
DTEND;TZID=America/New_York:20210117T113000
DTSTAMP:20260421T084215
CREATED:20210110T125441Z
LAST-MODIFIED:20210110T125441Z
UID:12505-1610881200-1610883000@sixthavebaptist.com
SUMMARY:Sunday Morning Worship (Virtual)
DESCRIPTION:WAYS TO WATCH: \nHERE ON OUR WEBSITE \nLIVE ON OUR FACEBOOK \nLIVE ON OUR YOUTUBE PAGE
URL:https://sixthavebaptist.com/new_staging/event/sunday-morning-worship-virtual/
END:VEVENT
BEGIN:VEVENT
DTSTART;TZID=America/New_York:20210118T071500
DTEND;TZID=America/New_York:20210118T074500
DTSTAMP:20260421T084215
CREATED:20210110T124332Z
LAST-MODIFIED:20210110T124332Z
UID:12479-1610954100-1610955900@sixthavebaptist.com
SUMMARY:Monday Morning Meditation (Virtual)
DESCRIPTION:Click the picture to join or use the codes listed! \nLink to meeting is: https://zoom.us/j/98134735449?pwd=YXhLYUJHV2J0RGVGa3N6ekx3Ull5Zz09 \n  \n 
URL:https://sixthavebaptist.com/new_staging/event/monday-morning-meditation-virtual-2/
END:VEVENT
BEGIN:VEVENT
DTSTART;TZID=America/New_York:20210119T110000
DTEND;TZID=America/New_York:20210119T113000
DTSTAMP:20260421T084215
CREATED:20210110T124829Z
LAST-MODIFIED:20210110T124829Z
UID:12487-1611054000-1611055800@sixthavebaptist.com
SUMMARY:Mid-Day Women’s Class (Virtual)
DESCRIPTION:
URL:https://sixthavebaptist.com/new_staging/event/mid-day-womens-class-virtual-2/
END:VEVENT
BEGIN:VEVENT
DTSTART;TZID=America/New_York:20210120T183000
DTEND;TZID=America/New_York:20210120T190000
DTSTAMP:20260421T084215
CREATED:20210110T125116Z
LAST-MODIFIED:20210110T125116Z
UID:12495-1611167400-1611169200@sixthavebaptist.com
SUMMARY:Adult Bible Study (Virtual)
DESCRIPTION:WAYS TO WATCH: \nHERE ON OUR WEBSITE \nLIVE ON OUR FACEBOOK \nLIVE ON OUR YOUTUBE PAGE
URL:https://sixthavebaptist.com/new_staging/event/adult-bible-study-virtual-2/
END:VEVENT
BEGIN:VEVENT
DTSTART;TZID=America/New_York:20210120T183000
DTEND;TZID=America/New_York:20210120T193000
DTSTAMP:20260421T084215
CREATED:20210113T234926Z
LAST-MODIFIED:20210113T234926Z
UID:12527-1611167400-1611171000@sixthavebaptist.com
SUMMARY:WOW Bible Study (virtual)
DESCRIPTION:THIS SERIES WILL RUN SIX WEEKS! \nJoin Zoom Meeting \nhttps://us02web.zoom.us/j/2058354074?pwd=TG9hTzM3aDJGbDBHd3FXNlMzMWl0Zz09 \nMeeting ID: 205 835 4074\nPasscode: 2058354074 \n\nPlease contact Vevelyn P. Wilson @vevelyn.wilson@yahoo.com or feel free to call 205-835-4074 with any questions.
URL:https://sixthavebaptist.com/new_staging/event/wow-bible-study-virtual/
END:VEVENT
BEGIN:VEVENT
DTSTART;TZID=America/New_York:20210123T183000
DTEND;TZID=America/New_York:20210123T200000
DTSTAMP:20260421T084215
CREATED:20201117T105254Z
LAST-MODIFIED:20201117T105254Z
UID:10829-1611426600-1611432000@sixthavebaptist.com
SUMMARY:Worship Arts and Music Department Choir Ministry Vision Casting
DESCRIPTION:  \n \n  \nJoin a Zoom meeting online by visiting:  https://zoom.us/join
URL:https://sixthavebaptist.com/new_staging/event/worship-arts-and-music-department-choir-ministry-vision-casting/
END:VEVENT
BEGIN:VEVENT
DTSTART;TZID=America/New_York:20210124T083000
DTEND;TZID=America/New_York:20210124T090000
DTSTAMP:20260421T084215
CREATED:20210110T125517Z
LAST-MODIFIED:20210110T125517Z
UID:12507-1611477000-1611478800@sixthavebaptist.com
SUMMARY:Sunday Morning Worship - Early (Virtual)
DESCRIPTION:WAYS TO WATCH: \nHERE ON OUR WEBSITE \nLIVE ON OUR FACEBOOK \nLIVE ON OUR YOUTUBE PAGE
URL:https://sixthavebaptist.com/new_staging/event/sunday-morning-worship-early-virtual-2/
END:VEVENT
BEGIN:VEVENT
DTSTART;TZID=America/New_York:20210124T110000
DTEND;TZID=America/New_York:20210124T120000
DTSTAMP:20260421T084215
CREATED:20210110T125552Z
LAST-MODIFIED:20210110T125552Z
UID:12509-1611486000-1611489600@sixthavebaptist.com
SUMMARY:Sunday Morning Worship (Virtual)
DESCRIPTION:WAYS TO WATCH: \nHERE ON OUR WEBSITE \nLIVE ON OUR FACEBOOK \nLIVE ON OUR YOUTUBE PAGE
URL:https://sixthavebaptist.com/new_staging/event/sunday-morning-worship-virtual-2/
END:VEVENT
BEGIN:VEVENT
DTSTART;TZID=America/New_York:20210125T071500
DTEND;TZID=America/New_York:20210125T074500
DTSTAMP:20260421T084215
CREATED:20210110T124438Z
LAST-MODIFIED:20210110T124438Z
UID:12481-1611558900-1611560700@sixthavebaptist.com
SUMMARY:Monday Morning Meditation (Virtual)
DESCRIPTION:Click the picture to join or use the codes listed! \nLink to meeting is: https://zoom.us/j/98134735449?pwd=YXhLYUJHV2J0RGVGa3N6ekx3Ull5Zz09 \n  \n 
URL:https://sixthavebaptist.com/new_staging/event/monday-morning-meditation-virtual-3/
END:VEVENT
BEGIN:VEVENT
DTSTART;TZID=America/New_York:20210126T110000
DTEND;TZID=America/New_York:20210126T113000
DTSTAMP:20260421T084215
CREATED:20210110T124853Z
LAST-MODIFIED:20210110T124853Z
UID:12489-1611658800-1611660600@sixthavebaptist.com
SUMMARY:Mid-Day Women’s Class (Virtual)
DESCRIPTION:
URL:https://sixthavebaptist.com/new_staging/event/mid-day-womens-class-virtual-3/
END:VEVENT
BEGIN:VEVENT
DTSTART;TZID=America/New_York:20210126T190000
DTEND;TZID=America/New_York:20210126T200000
DTSTAMP:20260421T084215
CREATED:20210105T135850Z
LAST-MODIFIED:20210105T135850Z
UID:10918-1611687600-1611691200@sixthavebaptist.com
SUMMARY:Virtual Congregational Church Meeting
DESCRIPTION:  \nCLICK TO REGISTER!
URL:https://sixthavebaptist.com/new_staging/event/virtual-congregational-church-meeting/
END:VEVENT
BEGIN:VEVENT
DTSTART;TZID=America/New_York:20210127T183000
DTEND;TZID=America/New_York:20210127T190000
DTSTAMP:20260421T084215
CREATED:20210110T125152Z
LAST-MODIFIED:20210110T125152Z
UID:12497-1611772200-1611774000@sixthavebaptist.com
SUMMARY:Adult Bible Study (Virtual)
DESCRIPTION:WAYS TO WATCH: \nHERE ON OUR WEBSITE \nLIVE ON OUR FACEBOOK \nLIVE ON OUR YOUTUBE PAGE
URL:https://sixthavebaptist.com/new_staging/event/adult-bible-study-virtual-3/
END:VEVENT
BEGIN:VEVENT
DTSTART;TZID=America/New_York:20210127T183000
DTEND;TZID=America/New_York:20210127T193000
DTSTAMP:20260421T084215
CREATED:20210113T235009Z
LAST-MODIFIED:20210113T235009Z
UID:12532-1611772200-1611775800@sixthavebaptist.com
SUMMARY:WOW Bible Study (virtual)
DESCRIPTION:THIS SERIES WILL RUN SIX WEEKS! \nJoin Zoom Meeting \nhttps://us02web.zoom.us/j/2058354074?pwd=TG9hTzM3aDJGbDBHd3FXNlMzMWl0Zz09 \nMeeting ID: 205 835 4074\nPasscode: 2058354074 \n\nPlease contact Vevelyn P. Wilson @vevelyn.wilson@yahoo.com or feel free to call 205-835-4074 with any questions.
URL:https://sixthavebaptist.com/new_staging/event/wow-bible-study-virtual-2/
END:VEVENT
BEGIN:VEVENT
DTSTART;TZID=America/New_York:20210131T083000
DTEND;TZID=America/New_York:20210131T093000
DTSTAMP:20260421T084215
CREATED:20210110T125649Z
LAST-MODIFIED:20210110T125649Z
UID:12511-1612081800-1612085400@sixthavebaptist.com
SUMMARY:Sunday Morning Worship - Early (Virtual)
DESCRIPTION:WAYS TO WATCH: \nHERE ON OUR WEBSITE \nLIVE ON OUR FACEBOOK \nLIVE ON OUR YOUTUBE PAGE
URL:https://sixthavebaptist.com/new_staging/event/sunday-morning-worship-early-virtual-3/
END:VEVENT
BEGIN:VEVENT
DTSTART;TZID=America/New_York:20210131T110000
DTEND;TZID=America/New_York:20210131T120000
DTSTAMP:20260421T084215
CREATED:20210110T125729Z
LAST-MODIFIED:20210110T125729Z
UID:12513-1612090800-1612094400@sixthavebaptist.com
SUMMARY:Sunday Morning Worship (Virtual)
DESCRIPTION:WAYS TO WATCH: \nHERE ON OUR WEBSITE \nLIVE ON OUR FACEBOOK \nLIVE ON OUR YOUTUBE PAGE
URL:https://sixthavebaptist.com/new_staging/event/sunday-morning-worship-virtual-3/
END:VEVENT
END:VCALENDAR