BEGIN:VCALENDAR
VERSION:2.0
PRODID:-//Sixth Avenue Baptist Church - ECPv6.8.3//NONSGML v1.0//EN
CALSCALE:GREGORIAN
METHOD:PUBLISH
X-WR-CALNAME:Sixth Avenue Baptist Church
X-ORIGINAL-URL:https://sixthavebaptist.com/new_staging
X-WR-CALDESC:Events for Sixth Avenue Baptist Church
REFRESH-INTERVAL;VALUE=DURATION:PT1H
X-Robots-Tag:noindex
X-PUBLISHED-TTL:PT1H
BEGIN:VTIMEZONE
TZID:UTC
BEGIN:STANDARD
TZOFFSETFROM:+0000
TZOFFSETTO:+0000
TZNAME:UTC
DTSTART:20230101T000000
END:STANDARD
END:VTIMEZONE
BEGIN:VEVENT
DTSTART;TZID=UTC:20231001T093000
DTEND;TZID=UTC:20231001T103000
DTSTAMP:20260420T130121
CREATED:20230922T133819Z
LAST-MODIFIED:20230922T134356Z
UID:13828-1696152600-1696156200@sixthavebaptist.com
SUMMARY:Children’s Church
DESCRIPTION:
URL:https://sixthavebaptist.com/new_staging/event/childrens-church-3/
ATTACH;FMTTYPE=image/jpeg:https://sixthavebaptist.com/new_staging/wp-content/uploads/2023/09/KIDS-church-flyer-Made-with-PosterMyWall-1-1.jpg
END:VEVENT
BEGIN:VEVENT
DTSTART;TZID=UTC:20231001T093000
DTEND;TZID=UTC:20231001T103000
DTSTAMP:20260420T130121
CREATED:20230922T134749Z
LAST-MODIFIED:20230922T134749Z
UID:13835-1696152600-1696156200@sixthavebaptist.com
SUMMARY:Collision Teen Church
DESCRIPTION:Music Room
URL:https://sixthavebaptist.com/new_staging/event/collision-teen-church/
END:VEVENT
BEGIN:VEVENT
DTSTART;TZID=UTC:20231004T100000
DTEND;TZID=UTC:20231004T110000
DTSTAMP:20260420T130121
CREATED:20230922T131548Z
LAST-MODIFIED:20230922T131548Z
UID:13806-1696413600-1696417200@sixthavebaptist.com
SUMMARY:Prayer Meeting
DESCRIPTION:
URL:https://sixthavebaptist.com/new_staging/event/prayer-meeting-4/
ATTACH;FMTTYPE=image/jpeg:https://sixthavebaptist.com/new_staging/wp-content/uploads/2023/09/Pray-Meeting-1.jpg
END:VEVENT
BEGIN:VEVENT
DTSTART;TZID=UTC:20231004T183000
DTEND;TZID=UTC:20231004T193000
DTSTAMP:20260420T130121
CREATED:20230922T132444Z
LAST-MODIFIED:20230922T133206Z
UID:13826-1696444200-1696447800@sixthavebaptist.com
SUMMARY:WOW Bible Study 1 John 1\, 2 & 3
DESCRIPTION:1 John 2:29-3:24 \nPractice Righteousness\, Pursue Love\, Possess Assurance \nTeacher: Tampia Anderson
URL:https://sixthavebaptist.com/new_staging/event/wow-bible-study-1-john-1-2-3-2/
END:VEVENT
BEGIN:VEVENT
DTSTART;VALUE=DATE:20231008
DTEND;VALUE=DATE:20231009
DTSTAMP:20260420T130121
CREATED:20230922T140213Z
LAST-MODIFIED:20230922T140213Z
UID:13841-1696723200-1696809599@sixthavebaptist.com
SUMMARY:TAILGATE SUNDAY
DESCRIPTION:
URL:https://sixthavebaptist.com/new_staging/event/tailgate-sunday-7/
END:VEVENT
BEGIN:VEVENT
DTSTART;TZID=UTC:20231011T100000
DTEND;TZID=UTC:20231011T110000
DTSTAMP:20260420T130121
CREATED:20230922T131707Z
LAST-MODIFIED:20230922T131707Z
UID:13808-1697018400-1697022000@sixthavebaptist.com
SUMMARY:Prayer Meeting
DESCRIPTION:
URL:https://sixthavebaptist.com/new_staging/event/prayer-meeting-5/
ATTACH;FMTTYPE=image/jpeg:https://sixthavebaptist.com/new_staging/wp-content/uploads/2023/09/Pray-Meeting-1.jpg
END:VEVENT
BEGIN:VEVENT
DTSTART;TZID=UTC:20231018T100000
DTEND;TZID=UTC:20231018T110000
DTSTAMP:20260420T130121
CREATED:20230922T131829Z
LAST-MODIFIED:20230922T131829Z
UID:13810-1697623200-1697626800@sixthavebaptist.com
SUMMARY:Prayer Meeting
DESCRIPTION:
URL:https://sixthavebaptist.com/new_staging/event/prayer-meeting-6/
ATTACH;FMTTYPE=image/jpeg:https://sixthavebaptist.com/new_staging/wp-content/uploads/2023/09/Pray-Meeting-1.jpg
END:VEVENT
BEGIN:VEVENT
DTSTART;TZID=UTC:20231025T100000
DTEND;TZID=UTC:20231025T110000
DTSTAMP:20260420T130121
CREATED:20230922T131916Z
LAST-MODIFIED:20230922T131916Z
UID:13812-1698228000-1698231600@sixthavebaptist.com
SUMMARY:Prayer Meeting
DESCRIPTION:
URL:https://sixthavebaptist.com/new_staging/event/prayer-meeting-7/
ATTACH;FMTTYPE=image/jpeg:https://sixthavebaptist.com/new_staging/wp-content/uploads/2023/09/Pray-Meeting-1.jpg
END:VEVENT
BEGIN:VEVENT
DTSTART;TZID=UTC:20231027T150000
DTEND;TZID=UTC:20231027T170000
DTSTAMP:20260420T130121
CREATED:20230903T173246Z
LAST-MODIFIED:20230903T173246Z
UID:13561-1698418800-1698426000@sixthavebaptist.com
SUMMARY:Ordination Service
DESCRIPTION:
URL:https://sixthavebaptist.com/new_staging/event/ordination-service/
LOCATION:Sixth Avenue Baptist Church\, 1101 Martin Luther King Jr Dr\, Birmingham\, Alabama\, 35211
END:VEVENT
BEGIN:VEVENT
DTSTART;TZID=UTC:20231029T120000
DTEND;TZID=UTC:20231029T140000
DTSTAMP:20260420T130121
CREATED:20230922T141150Z
LAST-MODIFIED:20230922T141150Z
UID:13843-1698580800-1698588000@sixthavebaptist.com
SUMMARY:Family on the Fifth
DESCRIPTION:
URL:https://sixthavebaptist.com/new_staging/event/family-on-the-fifth/
END:VEVENT
END:VCALENDAR