BEGIN:VCALENDAR
VERSION:2.0
PRODID:-//Sixth Avenue Baptist Church - ECPv6.8.3//NONSGML v1.0//EN
CALSCALE:GREGORIAN
METHOD:PUBLISH
X-WR-CALNAME:Sixth Avenue Baptist Church
X-ORIGINAL-URL:https://sixthavebaptist.com/new_staging
X-WR-CALDESC:Events for Sixth Avenue Baptist Church
REFRESH-INTERVAL;VALUE=DURATION:PT1H
X-Robots-Tag:noindex
X-PUBLISHED-TTL:PT1H
BEGIN:VTIMEZONE
TZID:UTC
BEGIN:STANDARD
TZOFFSETFROM:+0000
TZOFFSETTO:+0000
TZNAME:UTC
DTSTART:20230101T000000
END:STANDARD
END:VTIMEZONE
BEGIN:VEVENT
DTSTART;TZID=UTC:20231101T100000
DTEND;TZID=UTC:20231101T110000
DTSTAMP:20260420T154415
CREATED:20230922T132002Z
LAST-MODIFIED:20230922T132002Z
UID:13814-1698832800-1698836400@sixthavebaptist.com
SUMMARY:Prayer Meeting
DESCRIPTION:
URL:https://sixthavebaptist.com/new_staging/event/prayer-meeting-8/
ATTACH;FMTTYPE=image/jpeg:https://sixthavebaptist.com/new_staging/wp-content/uploads/2023/09/Pray-Meeting-1.jpg
END:VEVENT
BEGIN:VEVENT
DTSTART;TZID=UTC:20231105T093000
DTEND;TZID=UTC:20231105T103000
DTSTAMP:20260420T154415
CREATED:20230922T133931Z
LAST-MODIFIED:20230922T134126Z
UID:13831-1699176600-1699180200@sixthavebaptist.com
SUMMARY:Children’s Church
DESCRIPTION:
URL:https://sixthavebaptist.com/new_staging/event/childrens-church-4/
ATTACH;FMTTYPE=image/jpeg:https://sixthavebaptist.com/new_staging/wp-content/uploads/2023/09/KIDS-church-flyer-Made-with-PosterMyWall-1-1.jpg
END:VEVENT
BEGIN:VEVENT
DTSTART;TZID=UTC:20231105T093000
DTEND;TZID=UTC:20231105T103000
DTSTAMP:20260420T154415
CREATED:20230922T135021Z
LAST-MODIFIED:20230922T135021Z
UID:13837-1699176600-1699180200@sixthavebaptist.com
SUMMARY:Collision Teen Church
DESCRIPTION:Music Room
URL:https://sixthavebaptist.com/new_staging/event/collision-teen-church-2/
END:VEVENT
BEGIN:VEVENT
DTSTART;TZID=UTC:20231108T100000
DTEND;TZID=UTC:20231108T110000
DTSTAMP:20260420T154415
CREATED:20230922T132033Z
LAST-MODIFIED:20230922T132033Z
UID:13816-1699437600-1699441200@sixthavebaptist.com
SUMMARY:Prayer Meeting
DESCRIPTION:
URL:https://sixthavebaptist.com/new_staging/event/prayer-meeting-9/
ATTACH;FMTTYPE=image/jpeg:https://sixthavebaptist.com/new_staging/wp-content/uploads/2023/09/Pray-Meeting-1.jpg
END:VEVENT
BEGIN:VEVENT
DTSTART;VALUE=DATE:20231111
DTEND;VALUE=DATE:20231112
DTSTAMP:20260420T154415
CREATED:20230922T141341Z
LAST-MODIFIED:20230922T141341Z
UID:13845-1699660800-1699747199@sixthavebaptist.com
SUMMARY:Veteran’s Day
DESCRIPTION:
URL:https://sixthavebaptist.com/new_staging/event/veterans-day/
END:VEVENT
BEGIN:VEVENT
DTSTART;TZID=UTC:20231115T100000
DTEND;TZID=UTC:20231115T110000
DTSTAMP:20260420T154415
CREATED:20230922T132107Z
LAST-MODIFIED:20230922T132107Z
UID:13818-1700042400-1700046000@sixthavebaptist.com
SUMMARY:Prayer Meeting
DESCRIPTION:
URL:https://sixthavebaptist.com/new_staging/event/prayer-meeting-10/
ATTACH;FMTTYPE=image/jpeg:https://sixthavebaptist.com/new_staging/wp-content/uploads/2023/09/Pray-Meeting-1.jpg
END:VEVENT
BEGIN:VEVENT
DTSTART;TZID=UTC:20231119T170000
DTEND;TZID=UTC:20231119T190000
DTSTAMP:20260420T154415
CREATED:20230922T141454Z
LAST-MODIFIED:20230922T141635Z
UID:13847-1700413200-1700420400@sixthavebaptist.com
SUMMARY:Evelyn S. Hardy Men of Distinction Concert
DESCRIPTION:
URL:https://sixthavebaptist.com/new_staging/event/evelyn-s-hardy-men-of-distinction-concert-3/
END:VEVENT
BEGIN:VEVENT
DTSTART;TZID=UTC:20231122T100000
DTEND;TZID=UTC:20231122T110000
DTSTAMP:20260420T154415
CREATED:20230922T132135Z
LAST-MODIFIED:20230922T132135Z
UID:13820-1700647200-1700650800@sixthavebaptist.com
SUMMARY:Prayer Meeting
DESCRIPTION:
URL:https://sixthavebaptist.com/new_staging/event/prayer-meeting-11/
ATTACH;FMTTYPE=image/jpeg:https://sixthavebaptist.com/new_staging/wp-content/uploads/2023/09/Pray-Meeting-1.jpg
END:VEVENT
BEGIN:VEVENT
DTSTART;VALUE=DATE:20231123
DTEND;VALUE=DATE:20231125
DTSTAMP:20260420T154415
CREATED:20230922T141806Z
LAST-MODIFIED:20230922T141806Z
UID:13849-1700697600-1700870399@sixthavebaptist.com
SUMMARY:Thanks Giving - Church Office Closed in Observance of Thanksgiving
DESCRIPTION:
URL:https://sixthavebaptist.com/new_staging/event/thanks-giving-church-office-closed-in-observance-of-thanksgiving/
END:VEVENT
BEGIN:VEVENT
DTSTART;VALUE=DATE:20231126
DTEND;VALUE=DATE:20231127
DTSTAMP:20260420T154415
CREATED:20230922T142140Z
LAST-MODIFIED:20230922T142140Z
UID:13851-1700956800-1701043199@sixthavebaptist.com
SUMMARY:First Sunday of Advent
DESCRIPTION:
URL:https://sixthavebaptist.com/new_staging/event/first-sunday-of-advent-3/
END:VEVENT
BEGIN:VEVENT
DTSTART;TZID=UTC:20231129T100000
DTEND;TZID=UTC:20231129T110000
DTSTAMP:20260420T154415
CREATED:20230922T132206Z
LAST-MODIFIED:20230922T132206Z
UID:13822-1701252000-1701255600@sixthavebaptist.com
SUMMARY:Prayer Meeting
DESCRIPTION:
URL:https://sixthavebaptist.com/new_staging/event/prayer-meeting-12/
ATTACH;FMTTYPE=image/jpeg:https://sixthavebaptist.com/new_staging/wp-content/uploads/2023/09/Pray-Meeting-1.jpg
END:VEVENT
END:VCALENDAR