BEGIN:VCALENDAR
VERSION:2.0
PRODID:-//Sixth Avenue Baptist Church - ECPv6.8.3//NONSGML v1.0//EN
CALSCALE:GREGORIAN
METHOD:PUBLISH
X-WR-CALNAME:Sixth Avenue Baptist Church
X-ORIGINAL-URL:https://sixthavebaptist.com/new_staging
X-WR-CALDESC:Events for Sixth Avenue Baptist Church
REFRESH-INTERVAL;VALUE=DURATION:PT1H
X-Robots-Tag:noindex
X-PUBLISHED-TTL:PT1H
BEGIN:VTIMEZONE
TZID:UTC
BEGIN:STANDARD
TZOFFSETFROM:+0000
TZOFFSETTO:+0000
TZNAME:UTC
DTSTART:20230101T000000
END:STANDARD
END:VTIMEZONE
BEGIN:VEVENT
DTSTART;TZID=UTC:20231203T093000
DTEND;TZID=UTC:20231203T103000
DTSTAMP:20260420T172431
CREATED:20230922T134514Z
LAST-MODIFIED:20230922T134606Z
UID:13833-1701595800-1701599400@sixthavebaptist.com
SUMMARY:Children’s Church
DESCRIPTION:
URL:https://sixthavebaptist.com/new_staging/event/childrens-church-5/
ATTACH;FMTTYPE=image/jpeg:https://sixthavebaptist.com/new_staging/wp-content/uploads/2023/09/KIDS-church-flyer-Made-with-PosterMyWall-1-1.jpg
END:VEVENT
BEGIN:VEVENT
DTSTART;TZID=UTC:20231203T093000
DTEND;TZID=UTC:20231203T103000
DTSTAMP:20260420T172431
CREATED:20230922T135213Z
LAST-MODIFIED:20230922T135213Z
UID:13839-1701595800-1701599400@sixthavebaptist.com
SUMMARY:Collision Teen Church
DESCRIPTION:Music Room
URL:https://sixthavebaptist.com/new_staging/event/collision-teen-church-3/
END:VEVENT
BEGIN:VEVENT
DTSTART;TZID=UTC:20231206T100000
DTEND;TZID=UTC:20231206T110000
DTSTAMP:20260420T172431
CREATED:20230922T132241Z
LAST-MODIFIED:20230922T132241Z
UID:13824-1701856800-1701860400@sixthavebaptist.com
SUMMARY:Prayer Meeting
DESCRIPTION:
URL:https://sixthavebaptist.com/new_staging/event/prayer-meeting-13/
ATTACH;FMTTYPE=image/jpeg:https://sixthavebaptist.com/new_staging/wp-content/uploads/2023/09/Pray-Meeting-1.jpg
END:VEVENT
BEGIN:VEVENT
DTSTART;VALUE=DATE:20231224
DTEND;VALUE=DATE:20231225
DTSTAMP:20260420T172431
CREATED:20230922T143044Z
LAST-MODIFIED:20230922T143044Z
UID:13856-1703376000-1703462399@sixthavebaptist.com
SUMMARY:Christmas Eve
DESCRIPTION:
URL:https://sixthavebaptist.com/new_staging/event/christmas-eve-2/
END:VEVENT
BEGIN:VEVENT
DTSTART;VALUE=DATE:20231225
DTEND;VALUE=DATE:20231227
DTSTAMP:20260420T172431
CREATED:20230922T142641Z
LAST-MODIFIED:20230922T142848Z
UID:13853-1703462400-1703635199@sixthavebaptist.com
SUMMARY:Christmas Holidays - Offices Closed in Observance
DESCRIPTION:
URL:https://sixthavebaptist.com/new_staging/event/christmas-holidays-offices-closed/
END:VEVENT
BEGIN:VEVENT
DTSTART;TZID=UTC:20231231T093000
DTEND;TZID=UTC:20231231T110000
DTSTAMP:20260420T172431
CREATED:20230922T143523Z
LAST-MODIFIED:20230922T143523Z
UID:13858-1704015000-1704020400@sixthavebaptist.com
SUMMARY:New Year’s Eve Anointing Service
DESCRIPTION:
URL:https://sixthavebaptist.com/new_staging/event/new-years-eve-anointing-service-3/
END:VEVENT
END:VCALENDAR